BEGIN:VCALENDAR
VERSION:2.0
PRODID:-//transplantiert e.v.//NONSGML kigkonsult.se iCalcreator 2.30.10//
CALSCALE:GREGORIAN
METHOD:PUBLISH
UID:3fb6ee31-7316-4eb1-9d1a-096df4c4dfb2
X-WR-CALNAME:iCagenda
X-WR-CALDESC:Event Management Extension for Joomla!
X-WR-RELCALID:3E26604A-50F4-4449-8B3E-E4F4932D05B5
X-WR-TIMEZONE:Europe/Berlin
BEGIN:VTIMEZONE
TZID:Europe/Berlin
BEGIN:STANDARD
TZNAME:CET
DTSTART:20231029T030000
TZOFFSETFROM:+0200
TZOFFSETTO:+0100
RDATE:20241027T030000
RDATE:20251026T030000
END:STANDARD
BEGIN:DAYLIGHT
TZNAME:CEST
DTSTART:20240331T020000
TZOFFSETFROM:+0100
TZOFFSETTO:+0200
RDATE:20250330T020000
RDATE:20260329T020000
END:DAYLIGHT
END:VTIMEZONE
BEGIN:VEVENT
UID:f56ed168-71cb-44fc-ab6f-8619fd747e41
DTSTAMP:20260426T015115Z
CATEGORIES:Verein
CLASS:PUBLIC
DESCRIPTION;ALTREP="CID:<FFFF__=0ABBE548DFE235B58f9e8a93d@coffeebean.com>":
 Jeden&nbsp\;letzten Freitag im Monat ist es Zeit für den TX Stammtisch in 
 Berlin.\nBeginn: ab 18 Uhr&nbsp\;\nOrt:&nbsp\;Restaurant Il Giardino\,&nbs
 p\;Hackerstraße 3\, 12161 Berlin\nEingeladen sind alle\, die gern kommen m
 öchten und am Thema Transplantation interessiert oder betroffen sind.&nbsp
 \;Egal ob Du selbst transplantiert bist\, Angehöriger oder Freund eines Tr
 ansplantierten oder Angehöriger eines Organspenders bist\, wir freuen uns 
 auf Dich.Wir bitten um rechtzeitige&nbsp\;Anmeldung&nbsp\;(Kontaktformular
  o. kontakt@transplantiert.info&nbsp\;)\nDu musst nicht Mitglied sein.\n&n
 bsp\;
DTSTART:20241025T160000Z
DTEND:20241025T160000Z
GEO:00;0
LOCATION:Il Giardino\, Hackerstraße 3\, 12161 Berlin
ORGANIZER:
SEQUENCE:1
SUMMARY:TX Stammtisch Berlin
TRANSP:OPAQUE
URL:https://transplantiert.info/aktuelles/kalender-termine/2-tx-stammtisch/
 2024-10-25-18-00
END:VEVENT
END:VCALENDAR
